BEGIN:VCALENDAR
VERSION:2.0
PRODID:-//aplusreserch - ECPv6.15.18//NONSGML v1.0//EN
CALSCALE:GREGORIAN
METHOD:PUBLISH
X-WR-CALNAME:aplusreserch
X-ORIGINAL-URL:https://aplus-research.com
X-WR-CALDESC:Events for aplusreserch
REFRESH-INTERVAL;VALUE=DURATION:PT1H
X-Robots-Tag:noindex
X-PUBLISHED-TTL:PT1H
BEGIN:VTIMEZONE
TZID:UTC
BEGIN:STANDARD
TZOFFSETFROM:+0000
TZOFFSETTO:+0000
TZNAME:UTC
DTSTART:20250101T000000
END:STANDARD
END:VTIMEZONE
BEGIN:VEVENT
DTSTART;TZID=UTC:20260228T213000
DTEND;TZID=UTC:20260228T223000
DTSTAMP:20260424T200856
CREATED:20260216T174338Z
LAST-MODIFIED:20260216T174338Z
UID:989206-1772314200-1772317800@aplus-research.com
SUMMARY:Integration of AI in medical research\, tips and tricks. - With Hakeem
DESCRIPTION:Artificial intelligence has become a cornerstone across all aspects of modern life. It also plays a vital role in helping physicians keep pace with scientific advancements\, innovation\, and medical research. \nIn collaboration with Hakeem\, we are pleased to invite you to a webinar entitled: \nIntegration of AI in Medical Research: Tips and Tricks\nUsing Artificial Intelligence in Scientific Research \nPresented by\nDr. Mohammad Taha & Dr. Mohammad Abuawwad\nSpecialists in Medical Research \n📅 Saturday\, 28/2/2026\n🕤 9:30 PM (Jordan time)\n💻 Online via Facebook Live \n#HAKEEM_National_Program_for_New_Doctors_Guidance\n#Fourteen_Years_of_Excellence\n#HAKEEM14 #HAKEEM\n#HAKEEM_Scientific_Season #Medical_Courses #CPD #Continuous_Professional_Development\n#Residency #Resident #HAKEEM_JODRS\n#Medical_Research\n#Research
URL:https://aplus-research.com/event/integration-of-ai-in-medical-research-tips-and-tricks-with-hakeem/
LOCATION:Virtual\, Online
ATTACH;FMTTYPE=image/jpeg:https://aplus-research.com/wp-content/uploads/2026/02/634025189_1484965106534129_5999029720330385340_n.jpg
ORGANIZER;CN="ARC":MAILTO:info@aplus-research.com
END:VEVENT
BEGIN:VEVENT
DTSTART;TZID=UTC:20260201T190000
DTEND;TZID=UTC:20260201T200000
DTSTAMP:20260424T200856
CREATED:20260201T142528Z
LAST-MODIFIED:20260201T181856Z
UID:988792-1769972400-1769976000@aplus-research.com
SUMMARY:Introduction to ARC's Systematic Review and Meta-Analysis of Case Reports - Recordings
DESCRIPTION:  \nIntroductory meeting to ARC Wave 10. Part 1 \n\n  \nIntroductory meeting to ARC Wave 10. Part 2 \n\n 
URL:https://aplus-research.com/event/introduction-to-arcs-systematic-review-and-meta-analysis-of-case-reports/
LOCATION:Virtual\, Online
ATTACH;FMTTYPE=image/jpeg:https://aplus-research.com/wp-content/uploads/2026/02/625074034_741249115723402_8614007405060222067_n.jpg
ORGANIZER;CN="ARC":MAILTO:info@aplus-research.com
END:VEVENT
BEGIN:VEVENT
DTSTART;TZID=UTC:20260115T080000
DTEND;TZID=UTC:20260120T170000
DTSTAMP:20260424T200856
CREATED:20260107T164421Z
LAST-MODIFIED:20260201T130703Z
UID:988114-1768464000-1768928400@aplus-research.com
SUMMARY:Research Protocol Writing Workshop
DESCRIPTION:Event Registration
URL:https://aplus-research.com/event/research-protocol-writing-workshop/
ATTACH;FMTTYPE=image/jpeg:https://aplus-research.com/wp-content/uploads/2026/01/pexels-tara-winstead-7723396-scaled.jpg
END:VEVENT
END:VCALENDAR